BEGIN:VCALENDAR
VERSION:2.0
PRODID:-//YourSite//ICS Event Generator//EN
CALSCALE:GREGORIAN
METHOD:PUBLISH
BEGIN:VEVENT
UID:event-1776080124332-6u0ozlsp@yourdomain.com
DTSTAMP:20260413T113524Z
DTSTART;TZID=Europe/Berlin:20260613T130000
DTEND;TZID=Europe/Berlin:20260613T170000
SUMMARY:Lehota pod Vtáčnikom | 2. kolo SMHL 2026
DESCRIPTION:M\, Ž\, M35+\, D
LOCATION:Lehota pod Vtáčnikom
END:VEVENT
BEGIN:VEVENT
UID:event-1776080124333-gsjciab9@yourdomain.com
DTSTAMP:20260413T113524Z
DTSTART;TZID=Europe/Berlin:20260620T130000
DTEND;TZID=Europe/Berlin:20260620T170000
SUMMARY:Zlatníky | 3. kolo SMHL 2026
DESCRIPTION:M\, Ž\, D
LOCATION:Zlatníky
END:VEVENT
BEGIN:VEVENT
UID:event-1776080124333-t45aeul4@yourdomain.com
DTSTAMP:20260413T113524Z
DTSTART;TZID=Europe/Berlin:20260606T140000
DTEND;TZID=Europe/Berlin:20260606T180000
SUMMARY:Krásno | 1. kolo SMHL 2026
DESCRIPTION:M\, Ž\, M35+\, D
END:VEVENT
BEGIN:VEVENT
UID:event-1776080124333-v558xmtj@yourdomain.com
DTSTAMP:20260413T113524Z
DTSTART;TZID=Europe/Berlin:20260628T140000
DTEND;TZID=Europe/Berlin:20260628T180000
SUMMARY:Visolaje | 4. kolo SMHL 2026
DESCRIPTION:M\, Ž\, M35+\, D
LOCATION:Visolaje
END:VEVENT
BEGIN:VEVENT
UID:event-1776080124334-habne2xy@yourdomain.com
DTSTAMP:20260413T113524Z
DTSTART;TZID=Europe/Berlin:20260704T100000
DTEND;TZID=Europe/Berlin:20260704T140000
SUMMARY:Lednické Rovne | 5. kolo SMHL 2026
DESCRIPTION:M\, Ž\, M35+\, D
LOCATION:Lednické Rovne
END:VEVENT
BEGIN:VEVENT
UID:event-1776080124334-5g3k5f2k@yourdomain.com
DTSTAMP:20260413T113524Z
DTSTART;TZID=Europe/Berlin:20260712T120000
DTEND;TZID=Europe/Berlin:20260712T180000
SUMMARY:Zbora | 6. kolo SMHL 2026
DESCRIPTION:M\, Ž\, M35+\, D
LOCATION:Zbora
END:VEVENT
BEGIN:VEVENT
UID:event-1776080124335-w32qzhg9@yourdomain.com
DTSTAMP:20260413T113524Z
DTSTART;TZID=Europe/Berlin:20260718T140000
DTEND;TZID=Europe/Berlin:20260718T180000
SUMMARY:Svinná | 7. kolo SMHL 2026
DESCRIPTION:M\, Ž\, D
LOCATION:Svinná
END:VEVENT
BEGIN:VEVENT
UID:event-1776080124335-5knzii32@yourdomain.com
DTSTAMP:20260413T113524Z
DTSTART;TZID=Europe/Berlin:20260815T130000
DTEND;TZID=Europe/Berlin:20260815T170000
SUMMARY:Podlužany | 8. kolo SMHL 2026
DESCRIPTION:M\, Ž\, M35+\, D
LOCATION:Podlužany
END:VEVENT
BEGIN:VEVENT
UID:event-1776080124335-6b7rwqaj@yourdomain.com
DTSTAMP:20260413T113524Z
DTSTART;TZID=Europe/Berlin:20260829T133000
DTEND;TZID=Europe/Berlin:20260829T173000
SUMMARY:Nedašova Lhota | 9. kolo SMHL 2026
DESCRIPTION:M\, Ž\, D
LOCATION:Nedašova Lhota
END:VEVENT
BEGIN:VEVENT
UID:event-1776080124336-dj7q73lr@yourdomain.com
DTSTAMP:20260413T113524Z
DTSTART;TZID=Europe/Berlin:20260830T100000
DTEND;TZID=Europe/Berlin:20260830T140000
SUMMARY:Horenická Hôrka | 10. kolo SMHL 2026
DESCRIPTION:M\, Ž\, M35+\, D
LOCATION:Horenická Hôrka
END:VEVENT
BEGIN:VEVENT
UID:event-1776080124336-zp1udye5@yourdomain.com
DTSTAMP:20260413T113524Z
DTSTART;TZID=Europe/Berlin:20260905T120000
DTEND;TZID=Europe/Berlin:20260905T170000
SUMMARY:Dohňany | 11. kolo SMHL 2026
DESCRIPTION:M\, Ž\, M35+\, D
LOCATION:Dohňany
END:VEVENT
BEGIN:VEVENT
UID:event-1776080124336-qcfsxtuy@yourdomain.com
DTSTAMP:20260413T113524Z
DTSTART;TZID=Europe/Berlin:20260912T100000
DTEND;TZID=Europe/Berlin:20260913T030000
SUMMARY:Ďurďové | 12. kolo SMHL 2026
DESCRIPTION:M\, Ž\, M35+\, D
LOCATION:Ďurďové
END:VEVENT
END:VCALENDAR
